BEGIN:VCALENDAR
VERSION:2.0
PRODID:-//PLACER HILLMEN FOOTBALL - ECPv6.15.20//NONSGML v1.0//EN
CALSCALE:GREGORIAN
METHOD:PUBLISH
X-ORIGINAL-URL:https://hillmenfootball.org
X-WR-CALDESC:Events for PLACER HILLMEN FOOTBALL
REFRESH-INTERVAL;VALUE=DURATION:PT1H
X-Robots-Tag:noindex
X-PUBLISHED-TTL:PT1H
BEGIN:VTIMEZONE
TZID:America/Los_Angeles
BEGIN:DAYLIGHT
TZOFFSETFROM:-0800
TZOFFSETTO:-0700
TZNAME:PDT
DTSTART:20180311T100000
END:DAYLIGHT
BEGIN:STANDARD
TZOFFSETFROM:-0700
TZOFFSETTO:-0800
TZNAME:PST
DTSTART:20181104T090000
END:STANDARD
BEGIN:DAYLIGHT
TZOFFSETFROM:-0800
TZOFFSETTO:-0700
TZNAME:PDT
DTSTART:20190310T100000
END:DAYLIGHT
BEGIN:STANDARD
TZOFFSETFROM:-0700
TZOFFSETTO:-0800
TZNAME:PST
DTSTART:20191103T090000
END:STANDARD
BEGIN:DAYLIGHT
TZOFFSETFROM:-0800
TZOFFSETTO:-0700
TZNAME:PDT
DTSTART:20200308T100000
END:DAYLIGHT
BEGIN:STANDARD
TZOFFSETFROM:-0700
TZOFFSETTO:-0800
TZNAME:PST
DTSTART:20201101T090000
END:STANDARD
BEGIN:DAYLIGHT
TZOFFSETFROM:-0800
TZOFFSETTO:-0700
TZNAME:PDT
DTSTART:20210314T100000
END:DAYLIGHT
BEGIN:STANDARD
TZOFFSETFROM:-0700
TZOFFSETTO:-0800
TZNAME:PST
DTSTART:20211107T090000
END:STANDARD
BEGIN:DAYLIGHT
TZOFFSETFROM:-0800
TZOFFSETTO:-0700
TZNAME:PDT
DTSTART:20220313T100000
END:DAYLIGHT
BEGIN:STANDARD
TZOFFSETFROM:-0700
TZOFFSETTO:-0800
TZNAME:PST
DTSTART:20221106T090000
END:STANDARD
BEGIN:DAYLIGHT
TZOFFSETFROM:-0800
TZOFFSETTO:-0700
TZNAME:PDT
DTSTART:20230312T100000
END:DAYLIGHT
BEGIN:STANDARD
TZOFFSETFROM:-0700
TZOFFSETTO:-0800
TZNAME:PST
DTSTART:20231105T090000
END:STANDARD
END:VTIMEZONE
BEGIN:VEVENT
DTSTART;VALUE=DATE:20220730
DTEND;VALUE=DATE:20220731
DTSTAMP:20260420T150257
CREATED:20220428T020712Z
LAST-MODIFIED:20220428T020712Z
UID:2174-1659139200-1659225599@hillmenfootball.org
SUMMARY:Fill The Helmet!
DESCRIPTION:
URL:https://hillmenfootball.org/placer-football-calendar/fill-the-helmet-2/
CATEGORIES:Fill the Helmet,Fundraiser
END:VEVENT
BEGIN:VEVENT
DTSTART;TZID=America/Los_Angeles:20190803T080000
DTEND;TZID=America/Los_Angeles:20190803T130000
DTSTAMP:20260420T150257
CREATED:20190717T231232Z
LAST-MODIFIED:20190717T233642Z
UID:1767-1564819200-1564837200@hillmenfootball.org
SUMMARY:Fill The Helmet 2019!
DESCRIPTION:We can’t wait to see you at this year’s Fill the Helmet fundraiser! Placer Football players from all three teams will be out at various businesses around Auburn from 9-1 pm on Saturday\, August 3. \nCome find us at: \n\nPlacer Grown Farmers Market in the Courthouse parking lot\nDepoe Bay Coffee Company\nSavemart\nMr. Pickles Sandwich Shop\nDutch Bros at 49 and Elm\nSafeway\nBel Air\n\nWe will have schedules for this season to give away as well as Gold Cards and Kickoff Dinner tickets for sale. All donations welcome! \nThe Auburn community is a huge factor in the success of the Placer Hillmen Football program and we are so grateful to the local businesses and community members who support us! Thank you!
URL:https://hillmenfootball.org/placer-football-calendar/fill-helmet-2019/
LOCATION:Auburn\, CA
CATEGORIES:Fill the Helmet,Fundraiser
ATTACH;FMTTYPE=image/jpeg:https://hillmenfootball.org/wp-content/uploads/2019/07/FillTheHelmet2018.jpg
ORGANIZER;CN="Placer Hillmen Football Booster Club":MAILTO:hillmenfootballboosters@gmail.com
END:VEVENT
END:VCALENDAR