BEGIN:VCALENDAR
VERSION:2.0
PRODID:-//PLACER HILLMEN FOOTBALL - ECPv6.15.20//NONSGML v1.0//EN
CALSCALE:GREGORIAN
METHOD:PUBLISH
X-ORIGINAL-URL:https://hillmenfootball.org
X-WR-CALDESC:Events for PLACER HILLMEN FOOTBALL
REFRESH-INTERVAL;VALUE=DURATION:PT1H
X-Robots-Tag:noindex
X-PUBLISHED-TTL:PT1H
BEGIN:VTIMEZONE
TZID:America/Los_Angeles
BEGIN:DAYLIGHT
TZOFFSETFROM:-0800
TZOFFSETTO:-0700
TZNAME:PDT
DTSTART:20170312T100000
END:DAYLIGHT
BEGIN:STANDARD
TZOFFSETFROM:-0700
TZOFFSETTO:-0800
TZNAME:PST
DTSTART:20171105T090000
END:STANDARD
BEGIN:DAYLIGHT
TZOFFSETFROM:-0800
TZOFFSETTO:-0700
TZNAME:PDT
DTSTART:20180311T100000
END:DAYLIGHT
BEGIN:STANDARD
TZOFFSETFROM:-0700
TZOFFSETTO:-0800
TZNAME:PST
DTSTART:20181104T090000
END:STANDARD
BEGIN:DAYLIGHT
TZOFFSETFROM:-0800
TZOFFSETTO:-0700
TZNAME:PDT
DTSTART:20190310T100000
END:DAYLIGHT
BEGIN:STANDARD
TZOFFSETFROM:-0700
TZOFFSETTO:-0800
TZNAME:PST
DTSTART:20191103T090000
END:STANDARD
BEGIN:DAYLIGHT
TZOFFSETFROM:-0800
TZOFFSETTO:-0700
TZNAME:PDT
DTSTART:20200308T100000
END:DAYLIGHT
BEGIN:STANDARD
TZOFFSETFROM:-0700
TZOFFSETTO:-0800
TZNAME:PST
DTSTART:20201101T090000
END:STANDARD
END:VTIMEZONE
BEGIN:VEVENT
DTSTART;TZID=America/Los_Angeles:20190817T180000
DTEND;TZID=America/Los_Angeles:20190817T220000
DTSTAMP:20260420T093038
CREATED:20190502T223400Z
LAST-MODIFIED:20190727T211908Z
UID:1720-1566064800-1566079200@hillmenfootball.org
SUMMARY:Kickoff Dinner 2019! Tickets on sale now!
DESCRIPTION:Mark your calendars! Our 2019 Placer Hillmen Football Kickoff Dinner is scheduled for Saturday August 17\, 2019! Doors open at 6 pm and dinner will be served at 7. Last year’s dinner was so much fun and such a great celebration of our community and Placer Football. This year’s should be fantastic as well! Our coaches and players have been working hard since January to ensure we have another exciting season. But the support of Auburn and the Hillmen Faithful is the main reason why the program is so successful! So help us get the 2019 season off on the right foot and come to the Kickoff Dinner! You will have a great time too! \nOnce again\, we will be at the St. Joseph’s School Parish Hall on Atwood Road and the Varsity Team will be serving another delicious dinner. Plus there will be some amazing items you can buy/win at our auction and raffle. So put August 17 on your calendar so you can come and celebrate with us! \nTickets cost just $30 each! Order tickets online here or email us at hillmenfootballboosters@gmail.com and we will let you know where you can purchase them in-person. \nGo Hillmen!
URL:https://hillmenfootball.org/placer-football-calendar/kickoff-dinner-2019/
LOCATION:St. Joseph’s School Parish Hall\, 11610 Atwood Road\, Auburn\, CA\, 95603\, United States
CATEGORIES:Kickoff Dinner
ATTACH;FMTTYPE=image/jpeg:https://hillmenfootball.org/wp-content/uploads/2019/05/servingkickoffdinner2018.jpg
ORGANIZER;CN="Placer Hillmen Football Booster Club":MAILTO:hillmenfootballboosters@gmail.com
END:VEVENT
BEGIN:VEVENT
DTSTART;TZID=America/Los_Angeles:20180811T180000
DTEND;TZID=America/Los_Angeles:20180811T230000
DTSTAMP:20260420T093038
CREATED:20180320T203023Z
LAST-MODIFIED:20180426T155842Z
UID:1355-1534010400-1534028400@hillmenfootball.org
SUMMARY:Kickoff Dinner
DESCRIPTION:Tickets are now on-sale for this season’s Kickoff Dinner: a delicious sit-down dinner served by the players. There will also be an auction\, games\, the opportunity to socialize with the coaches and team\, and lots of fun! It will be a fantastic evening that you won’t want to miss! And it will sell out\, so get your tickets now! \nClick here to order your tickets online \nEmail hillmenfootballboosters@gmail.com if you have any questions. \nIt’s great to be a Hillman!
URL:https://hillmenfootball.org/placer-football-calendar/kickoff-dinner/
LOCATION:St. Joseph’s School Parish Hall\, 11610 Atwood Road\, Auburn\, CA\, 95603\, United States
CATEGORIES:Kickoff Dinner
ORGANIZER;CN="Placer Hillmen Football Booster Club":MAILTO:hillmenfootballboosters@gmail.com
END:VEVENT
END:VCALENDAR