BEGIN:VCALENDAR
VERSION:2.0
PRODID:-//PLACER HILLMEN FOOTBALL - ECPv6.15.20//NONSGML v1.0//EN
CALSCALE:GREGORIAN
METHOD:PUBLISH
X-WR-CALNAME:PLACER HILLMEN FOOTBALL
X-ORIGINAL-URL:https://hillmenfootball.org
X-WR-CALDESC:Events for PLACER HILLMEN FOOTBALL
REFRESH-INTERVAL;VALUE=DURATION:PT1H
X-Robots-Tag:noindex
X-PUBLISHED-TTL:PT1H
BEGIN:VTIMEZONE
TZID:America/Los_Angeles
BEGIN:DAYLIGHT
TZOFFSETFROM:-0800
TZOFFSETTO:-0700
TZNAME:PDT
DTSTART:20180311T100000
END:DAYLIGHT
BEGIN:STANDARD
TZOFFSETFROM:-0700
TZOFFSETTO:-0800
TZNAME:PST
DTSTART:20181104T090000
END:STANDARD
BEGIN:DAYLIGHT
TZOFFSETFROM:-0800
TZOFFSETTO:-0700
TZNAME:PDT
DTSTART:20190310T100000
END:DAYLIGHT
BEGIN:STANDARD
TZOFFSETFROM:-0700
TZOFFSETTO:-0800
TZNAME:PST
DTSTART:20191103T090000
END:STANDARD
BEGIN:DAYLIGHT
TZOFFSETFROM:-0800
TZOFFSETTO:-0700
TZNAME:PDT
DTSTART:20200308T100000
END:DAYLIGHT
BEGIN:STANDARD
TZOFFSETFROM:-0700
TZOFFSETTO:-0800
TZNAME:PST
DTSTART:20201101T090000
END:STANDARD
END:VTIMEZONE
BEGIN:VEVENT
DTSTART;TZID=America/Los_Angeles:20191130T160000
DTEND;TZID=America/Los_Angeles:20191130T190000
DTSTAMP:20260420T045919
CREATED:20191123T185119Z
LAST-MODIFIED:20191123T190044Z
UID:1896-1575129600-1575140400@hillmenfootball.org
SUMMARY:Placer vs Manteca: SJS Div III Section Championship!
DESCRIPTION:With their victory over the Buhach Colony Thunder\, Placer will face the Manteca Buffaloes in the section championship game! \nCome on out to Hughes Stadium at Sacramento City College and cheer the Hillmen on! Kickoff is at 4 PM on Saturday\, November 30! \n#GoHillmen
URL:https://hillmenfootball.org/placer-football-calendar/placer-vs-manteca-sjs-div-iii-section-championship/
LOCATION:Hughes Stadium: Sac City College\, 3835 Freeport Blvd\, Sacramento\, CA\, 95822\, United States
CATEGORIES:Championship,Playoff Game
ATTACH;FMTTYPE=image/jpeg:https://hillmenfootball.org/wp-content/uploads/2019/11/huddleBuhachColony2019-e1574534729316.jpg
END:VEVENT
BEGIN:VEVENT
DTSTART;TZID=America/Los_Angeles:20191122T190000
DTEND;TZID=America/Los_Angeles:20191122T220000
DTSTAMP:20260420T045919
CREATED:20191117T023444Z
LAST-MODIFIED:20191117T025250Z
UID:1888-1574449200-1574460000@hillmenfootball.org
SUMMARY:Placer vs Buhach Colony: SJS Div III Semifinal
DESCRIPTION:After defeating the Yuba City Honkers in Round 2\, the Hillmen are moving on to the semifinals! Placer will be playing the Buhach Colony Thunder of Atwater on Friday\, November 22\, at 7 PM at home! #GoHillmen! \n\n\n\nLook for updates here and on the Hillmen Football Facebook page\, on our Twitter\, and/or sign up for the Hillmen Football Newsletter! \n\n\n\n	Email address: \n	\n \n\n\n	\n Leave this field empty if you're human:
URL:https://hillmenfootball.org/placer-football-calendar/sjs-div-iii-semifinals-placer-vs-buhach-colony/
LOCATION:Placer Football Field: LeFebvre Stadium\, 275 Orange Street\, Auburn\, CA\, 95603\, United States
CATEGORIES:Playoff Game,Varsity Game
ATTACH;FMTTYPE=image/jpeg:https://hillmenfootball.org/wp-content/uploads/2019/11/EntranceVarsity2019-e1573957291246.jpg
END:VEVENT
BEGIN:VEVENT
DTSTART;TZID=America/Los_Angeles:20191115T190000
DTEND;TZID=America/Los_Angeles:20191115T220000
DTSTAMP:20260420T045919
CREATED:20191104T034311Z
LAST-MODIFIED:20191110T020920Z
UID:1873-1573844400-1573855200@hillmenfootball.org
SUMMARY:Placer vs Yuba City: SJS Div III Playoff Round 2
DESCRIPTION:Round 1 is complete and Round 2 is set! Placer is playing the Yuba City Honkers on November 15\, at 7 PM at home! #GoHillmen!\n\n \n\nLook for updates here and on the Hillmen Football Facebook page\, on our Twitter\, and/or sign up for the Hillmen Football Newsletter!\n\n \n	Email address: \n	\n \n\n\n	\n Leave this field empty if you're human:
URL:https://hillmenfootball.org/placer-football-calendar/placer-vs-christian-brothers-yuba-city-sjs-div-iii-playoff-round-2/
LOCATION:Placer Football Field: LeFebvre Stadium\, 275 Orange Street\, Auburn\, CA\, 95603\, United States
CATEGORIES:Playoff Game,Varsity Game
ATTACH;FMTTYPE=image/jpeg:https://hillmenfootball.org/wp-content/uploads/2019/11/2019LincolnVarsity-e1572826650455.jpg
END:VEVENT
END:VCALENDAR